BEGIN:VCALENDAR
VERSION:2.0
PRODID:-//Woodstock Lawn Bowling - ECPv6.15.17.1//NONSGML v1.0//EN
CALSCALE:GREGORIAN
METHOD:PUBLISH
X-WR-CALNAME:Woodstock Lawn Bowling
X-ORIGINAL-URL:https://woodstocklawnbowling.ca
X-WR-CALDESC:Events for Woodstock Lawn Bowling
REFRESH-INTERVAL;VALUE=DURATION:PT1H
X-Robots-Tag:noindex
X-PUBLISHED-TTL:PT1H
BEGIN:VTIMEZONE
TZID:America/Toronto
BEGIN:DAYLIGHT
TZOFFSETFROM:-0500
TZOFFSETTO:-0400
TZNAME:EDT
DTSTART:20250309T070000
END:DAYLIGHT
BEGIN:STANDARD
TZOFFSETFROM:-0400
TZOFFSETTO:-0500
TZNAME:EST
DTSTART:20251102T060000
END:STANDARD
BEGIN:DAYLIGHT
TZOFFSETFROM:-0500
TZOFFSETTO:-0400
TZNAME:EDT
DTSTART:20260308T070000
END:DAYLIGHT
BEGIN:STANDARD
TZOFFSETFROM:-0400
TZOFFSETTO:-0500
TZNAME:EST
DTSTART:20261101T060000
END:STANDARD
BEGIN:DAYLIGHT
TZOFFSETFROM:-0500
TZOFFSETTO:-0400
TZNAME:EDT
DTSTART:20270314T070000
END:DAYLIGHT
BEGIN:STANDARD
TZOFFSETFROM:-0400
TZOFFSETTO:-0500
TZNAME:EST
DTSTART:20271107T060000
END:STANDARD
END:VTIMEZONE
BEGIN:VEVENT
DTSTART;TZID=America/Toronto:20260518T093000
DTEND;TZID=America/Toronto:20260518T170000
DTSTAMP:20260419T140315
CREATED:20260305T032125Z
LAST-MODIFIED:20260305T034409Z
UID:3801-1779096600-1779123600@woodstocklawnbowling.ca
SUMMARY:SPRING INTO ACTION OPEN TRIPLES TOURNAMENT
DESCRIPTION:A fun day to get you back into the swing of things.  Event sponsor to be determined.  Price is for a team of three.
URL:https://woodstocklawnbowling.ca/event/spring-into-action-open-triples-tournament/
LOCATION:Woodstock Lawn Bowling Club\, 325 Finkle St\, Woodstock\, Ontario\, N4S 3E5\, Canada
ORGANIZER;CN="Derek McKie":MAILTO:derekmckie@hotmail.com
END:VEVENT
END:VCALENDAR